BEGIN:VCALENDAR
VERSION:2.0
PRODID:-//Club Santiago - ECPv6.2.0.1//NONSGML v1.0//EN
CALSCALE:GREGORIAN
METHOD:PUBLISH
X-ORIGINAL-URL:https://clubsantiago.cl
X-WR-CALDESC:Eventos para Club Santiago
REFRESH-INTERVAL;VALUE=DURATION:PT1H
X-Robots-Tag:noindex
X-PUBLISHED-TTL:PT1H
BEGIN:VTIMEZONE
TZID:UTC
BEGIN:STANDARD
TZOFFSETFROM:+0000
TZOFFSETTO:+0000
TZNAME:UTC
DTSTART:20230101T000000
END:STANDARD
END:VTIMEZONE
BEGIN:VEVENT
DTSTART;TZID=UTC:20231014T190000
DTEND;TZID=UTC:20231015T030000
DTSTAMP:20260424T100925
CREATED:20230821T023322Z
LAST-MODIFIED:20230821T092150Z
UID:1143-1697310000-1697338800@clubsantiago.cl
SUMMARY:Fiesta Grove
DESCRIPTION:
URL:https://clubsantiago.cl/index.php/event/fiesta-grove/
LOCATION:Terraza y Segundo Piso
CATEGORIES:Fiesta
END:VEVENT
BEGIN:VEVENT
DTSTART;TZID=UTC:20230930T190000
DTEND;TZID=UTC:20230930T190000
DTSTAMP:20260424T100925
CREATED:20230821T094300Z
LAST-MODIFIED:20230821T094300Z
UID:1206-1696100400-1696100400@clubsantiago.cl
SUMMARY:Macano (Ronda Prensa)
DESCRIPTION:
URL:https://clubsantiago.cl/index.php/event/macano-ronda-prensa/
LOCATION:Primer Piso
END:VEVENT
BEGIN:VEVENT
DTSTART;TZID=UTC:20230909T200000
DTEND;TZID=UTC:20230909T210000
DTSTAMP:20260424T100925
CREATED:20230821T044744Z
LAST-MODIFIED:20230821T044744Z
UID:1154-1694289600-1694293200@clubsantiago.cl
SUMMARY:Cumpleaños
DESCRIPTION:Cumpleaños organizado por Rodrigo Corredor de Propiedades
URL:https://clubsantiago.cl/index.php/event/cumpleanos/
LOCATION:Primer Piso
END:VEVENT
BEGIN:VEVENT
DTSTART;TZID=UTC:20230909T190000
DTEND;TZID=UTC:20230909T190000
DTSTAMP:20260424T100925
CREATED:20230821T095048Z
LAST-MODIFIED:20230821T095150Z
UID:1216-1694286000-1694286000@clubsantiago.cl
SUMMARY:Por Confirmar
DESCRIPTION:
URL:https://clubsantiago.cl/index.php/event/por-confirmar/
LOCATION:Terraza
CATEGORIES:Cumpleaños
END:VEVENT
BEGIN:VEVENT
DTSTART;TZID=UTC:20230902T190000
DTEND;TZID=UTC:20230902T190000
DTSTAMP:20260424T100925
CREATED:20230821T094907Z
LAST-MODIFIED:20230821T094907Z
UID:1214-1693681200-1693681200@clubsantiago.cl
SUMMARY:Diego Smith
DESCRIPTION:
URL:https://clubsantiago.cl/index.php/event/diego-smith/
LOCATION:Terraza y Segundo Piso
CATEGORIES:Tocata
END:VEVENT
BEGIN:VEVENT
DTSTART;TZID=UTC:20230901T200000
DTEND;TZID=UTC:20230901T200000
DTSTAMP:20260424T100925
CREATED:20230821T094739Z
LAST-MODIFIED:20230821T094739Z
UID:1211-1693598400-1693598400@clubsantiago.cl
SUMMARY:Productora Miami Presentacion Artistas
DESCRIPTION:
URL:https://clubsantiago.cl/index.php/event/productora-miami-presentacion-artistas/
LOCATION:Terraza y Segundo Piso
END:VEVENT
BEGIN:VEVENT
DTSTART;TZID=UTC:20230831T200000
DTEND;TZID=UTC:20230831T200000
DTSTAMP:20260424T100925
CREATED:20230821T094446Z
LAST-MODIFIED:20230821T094446Z
UID:1208-1693512000-1693512000@clubsantiago.cl
SUMMARY:Power Dance Hall
DESCRIPTION:
URL:https://clubsantiago.cl/index.php/event/power-dance-hall/
LOCATION:Segundo Piso
END:VEVENT
BEGIN:VEVENT
DTSTART;TZID=UTC:20230826T200000
DTEND;TZID=UTC:20230826T200000
DTSTAMP:20260424T100925
CREATED:20230821T093637Z
LAST-MODIFIED:20230821T093651Z
UID:1197-1693080000-1693080000@clubsantiago.cl
SUMMARY:Cumpleaños DJ Melon 50 años  Hip Hop
DESCRIPTION:
URL:https://clubsantiago.cl/index.php/event/cumpleanos-dj-melon-50-anos-hip-hop/
LOCATION:Terraza
END:VEVENT
BEGIN:VEVENT
DTSTART;TZID=UTC:20230826T190000
DTEND;TZID=UTC:20230826T190000
DTSTAMP:20260424T100925
CREATED:20230821T094113Z
LAST-MODIFIED:20230821T094113Z
UID:1204-1693076400-1693076400@clubsantiago.cl
SUMMARY:Cumpleaños 1° Piso
DESCRIPTION:
URL:https://clubsantiago.cl/index.php/event/cumpleanos-1-piso/
LOCATION:Primer Piso
CATEGORIES:Cumpleaños
END:VEVENT
BEGIN:VEVENT
DTSTART;TZID=UTC:20230825T200000
DTEND;TZID=UTC:20230825T200000
DTSTAMP:20260424T100925
CREATED:20230821T093428Z
LAST-MODIFIED:20230821T093451Z
UID:1193-1692993600-1692993600@clubsantiago.cl
SUMMARY:Fiesta Dany Club
DESCRIPTION:
URL:https://clubsantiago.cl/index.php/event/fiesta-dany-club/
LOCATION:Local Completo
END:VEVENT
BEGIN:VEVENT
DTSTART;TZID=UTC:20230822T190000
DTEND;TZID=UTC:20230822T190000
DTSTAMP:20260424T100925
CREATED:20230821T093212Z
LAST-MODIFIED:20230821T093212Z
UID:1190-1692730800-1692730800@clubsantiago.cl
SUMMARY:22 Ruzz
DESCRIPTION:
URL:https://clubsantiago.cl/index.php/event/22-ruzz/
LOCATION:Terraza y Segundo Piso
CATEGORIES:Tocata
END:VEVENT
END:VCALENDAR