BEGIN:VCALENDAR
VERSION:2.0
PRODID:-//Club Santiago - ECPv6.2.0.1//NONSGML v1.0//EN
CALSCALE:GREGORIAN
METHOD:PUBLISH
X-ORIGINAL-URL:https://clubsantiago.cl
X-WR-CALDESC:Eventos para Club Santiago
REFRESH-INTERVAL;VALUE=DURATION:PT1H
X-Robots-Tag:noindex
X-PUBLISHED-TTL:PT1H
BEGIN:VTIMEZONE
TZID:UTC
BEGIN:STANDARD
TZOFFSETFROM:+0000
TZOFFSETTO:+0000
TZNAME:UTC
DTSTART:20230101T000000
END:STANDARD
END:VTIMEZONE
BEGIN:VEVENT
DTSTART;TZID=UTC:20230822T190000
DTEND;TZID=UTC:20230822T190000
DTSTAMP:20260424T114430
CREATED:20230821T093212Z
LAST-MODIFIED:20230821T093212Z
UID:1190-1692730800-1692730800@clubsantiago.cl
SUMMARY:22 Ruzz
DESCRIPTION:
URL:https://clubsantiago.cl/index.php/event/22-ruzz/
LOCATION:Terraza y Segundo Piso
CATEGORIES:Tocata
END:VEVENT
END:VCALENDAR